BEGIN:VCALENDAR
VERSION:2.0
PRODID:-//wp-events-plugin.com//7.2.3.1//EN
TZID:Europe/Paris
X-WR-TIMEZONE:Europe/Paris
BEGIN:VEVENT
UID:156@fnctacd78.fr
DTSTART;TZID=Europe/Paris:20250919T203000
DTEND;TZID=Europe/Paris:20250919T214500
DTSTAMP:20250908T184023Z
URL:https://fnctacd78.fr/events/versailles-ou-le-jeu-des-dames-par-la-cie-
 du-reve-rouge/
SUMMARY:Versailles ou le jeu des dames par la Cie du Rêve Rouge
DESCRIPTION:Ancienne Église de Maisons-Laffitte\n\nVersailles ou le jeu de
 s dames\n\nPar la Compagnie du Rêve Rouge de Maisons-Laffitte\n\nLouis XI
 V se meurt. Qui de la Maintenon ou de la Palatine emportera ce duel verbal
  entre enjeux politique et amoureux ? L'une est née princesse\, l'autre a
  vu jour dans une prison de Niort. Les règles du jeu changent\, la chance
  tourne. Entre rancunes et jalousies\, nostalgies et confidences de femmes
 . Deux âmes fortes\, deux beaux personnages du grand théâtre qu'est la 
 cour de Versailles.\n\nhttps://admin.helloasso.com/la-compagnie-du-reve-ro
 uge-cie-du-rr/evenements\n\n
ATTACH;FMTTYPE=image/jpeg:https://fnctacd78.fr/wp-content/uploads/2025/09/
 A3-AFFICHE-SEPT-2-MM-FDS-PERDUS-scaled.jpg
CATEGORIES:Évènements des troupes
LOCATION:Ancienne Eglise de Maisons Laffitte\, 23 rue de la Vieille Eglise\
 , Maisons-Laffitte\, Yvelines\, 78600\, France
X-APPLE-STRUCTURED-LOCATION;VALUE=URI;X-ADDRESS=23 rue de la Vieille Eglise
 \, Maisons-Laffitte\, Yvelines\, 78600\, France;X-APPLE-RADIUS=100;X-TITLE
 =Ancienne Eglise de Maisons Laffitte:geo:0,0
END:VEVENT
BEGIN:VTIMEZONE
TZID:Europe/Paris
X-LIC-LOCATION:Europe/Paris
BEGIN:DAYLIGHT
DTSTART:20250330T030000
TZOFFSETFROM:+0100
TZOFFSETTO:+0200
TZNAME:CEST
END:DAYLIGHT
END:VTIMEZONE
END:VCALENDAR