BEGIN:VCALENDAR
VERSION:2.0
PRODID:-//wp-events-plugin.com//7.2.3.1//EN
TZID:Europe/Paris
X-WR-TIMEZONE:Europe/Paris
BEGIN:VEVENT
UID:158@fnctacd78.fr
DTSTART;TZID=Europe/Paris:20251010T203000
DTEND;TZID=Europe/Paris:20251010T214500
DTSTAMP:20250908T183503Z
URL:https://fnctacd78.fr/events/versailles-ou-le-jeu-des-dames-par-la-cie-
 du-reve-rouge-3/
SUMMARY:Versailles ou le jeu des dames par la Cie du Rêve Rouge
DESCRIPTION:Festival Neuve Scène'25\n\nVersailles ou le jeu des dames\n\nP
 ar la Compagnie du Rêve Rouge de Maisons-Laffitte\n\nLouis XIV se meurt. 
 Qui de la Maintenon ou de la Palatine emportera ce duel verbal entre enjeu
 x politique et amoureux ? L'une est née princesse\, l'autre a vu jour dan
 s une prison de Niort. Les règles du jeu changent\, la chance tourne. Ent
 re rancunes et jalousies\, nostalgies et confidences de femmes. Deux âmes
  fortes\, deux beaux personnages du grand théâtre qu'est la cour de Vers
 ailles.\n\nhttps://www.theatralementvotre.fr/festival\n\n
ATTACH;FMTTYPE=image/jpeg:https://fnctacd78.fr/wp-content/uploads/2025/08/
 AFFICHE-MACARONS-Cyranos.jpg
CATEGORIES:Évènements des troupes
LOCATION:Neuve Scène 25\, Salle d’animation de Neuvecelle  904 Av. Du L
 éman   \, Neuvecelle \, 74500\, France
X-APPLE-STRUCTURED-LOCATION;VALUE=URI;X-ADDRESS=Salle d’animation de Neuv
 ecelle  904 Av. Du Léman   \, Neuvecelle \, 74500\, France;X-APPLE-RADIUS
 =100;X-TITLE=Neuve Scène 25:geo:0,0
END:VEVENT
BEGIN:VTIMEZONE
TZID:Europe/Paris
X-LIC-LOCATION:Europe/Paris
BEGIN:DAYLIGHT
DTSTART:20250330T030000
TZOFFSETFROM:+0100
TZOFFSETTO:+0200
TZNAME:CEST
END:DAYLIGHT
END:VTIMEZONE
END:VCALENDAR