BEGIN:VCALENDAR
VERSION:2.0
PRODID:-//wp-events-plugin.com//7.2.3.1//EN
TZID:Europe/Paris
X-WR-TIMEZONE:Europe/Paris
BEGIN:VEVENT
UID:157@fnctacd78.fr
DTSTART;TZID=Europe/Paris:20251005T180000
DTEND;TZID=Europe/Paris:20251005T191500
DTSTAMP:20250908T183706Z
URL:https://fnctacd78.fr/events/versailles-ou-le-jeu-des-dames-par-la-cie-
 du-reve-rouge-2/
SUMMARY:Versailles ou le jeu des dames par la Cie du Rêve Rouge
DESCRIPTION:Le Festival de L'Audace\n\nVersailles ou le jeu des dames\n\nPa
 r la Compagnie du Rêve Rouge de Maisons-Laffitte\n\nLouis XIV se meurt. Q
 ui de la Maintenon ou de la Palatine emportera ce duel verbal entre enjeux
  politique et amoureux ? L'une est née princesse\, l'autre a vu jour dans
  une prison de Niort. Les règles du jeu changent\, la chance tourne. Entr
 e rancunes et jalousies\, nostalgies et confidences de femmes. Deux âmes 
 fortes\, deux beaux personnages du grand théâtre qu'est la cour de Versa
 illes.\n\nhttps://www.festivalaudace.fr/\n\n
ATTACH;FMTTYPE=image/jpeg:https://fnctacd78.fr/wp-content/uploads/2025/08/
 AFFICHE-MACARONS-Cyranos.jpg
CATEGORIES:Évènements des troupes
LOCATION:Festival de l'Audace\, Maison de l'environnement 6 rue Haroun Tazi
 eff \, Magny-les-Hameaux\, Yvelines\, 78356\, France
X-APPLE-STRUCTURED-LOCATION;VALUE=URI;X-ADDRESS=Maison de l'environnement 6
  rue Haroun Tazieff \, Magny-les-Hameaux\, Yvelines\, 78356\, France;X-APP
 LE-RADIUS=100;X-TITLE=Festival de l'Audace:geo:0,0
END:VEVENT
BEGIN:VTIMEZONE
TZID:Europe/Paris
X-LIC-LOCATION:Europe/Paris
BEGIN:DAYLIGHT
DTSTART:20250330T030000
TZOFFSETFROM:+0100
TZOFFSETTO:+0200
TZNAME:CEST
END:DAYLIGHT
END:VTIMEZONE
END:VCALENDAR