BEGIN:VCALENDAR
VERSION:2.0
PRODID:-//wp-events-plugin.com//7.2.3.1//EN
TZID:Europe/Paris
X-WR-TIMEZONE:Europe/Paris
BEGIN:VEVENT
UID:217@fnctacd78.fr
DTSTART;TZID=Europe/Paris:20260206T204500
DTEND;TZID=Europe/Paris:20260208T220000
DTSTAMP:20260205T150603Z
URL:https://fnctacd78.fr/events/une-heure-et-demie-de-retard-le-magasin-ma
 lakoff/
SUMMARY:Une heure et demie de retard - Le magasin Malakoff
DESCRIPTION:La compagnie LéZardiZenscène présente\nUne heure et demie de
  retard\nde Gérald Sibleyras et Jean Dell\, mise en scène de Sylvie Cens
 \nTeaser vidéo ICI\nVendredi 6 février à 20h45\nSamedi 7 février à 2
 0h45\nDimanche 8 février à 18h15\nThéâtre Le magasin\, 144 avenue Pie
 rre Brossolette\, Malakoff\nBilletterie en ligne : On participe\n \n
ATTACH;FMTTYPE=image/jpeg:https://fnctacd78.fr/wp-content/uploads/2024/11/
 DZ8_1140_DxO-scaled.jpg
CATEGORIES:Évènements des troupes
LOCATION:Théâtre le Magasin\, 144 avenue Pierre Brossolette\, Malakoff\, 
 92240\, France
X-APPLE-STRUCTURED-LOCATION;VALUE=URI;X-ADDRESS=144 avenue Pierre Brossolet
 te\, Malakoff\, 92240\, France;X-APPLE-RADIUS=100;X-TITLE=Théâtre le Mag
 asin:geo:0,0
END:VEVENT
BEGIN:VTIMEZONE
TZID:Europe/Paris
X-LIC-LOCATION:Europe/Paris
BEGIN:STANDARD
DTSTART:20251026T020000
TZOFFSETFROM:+0200
TZOFFSETTO:+0100
TZNAME:CET
END:STANDARD
END:VTIMEZONE
END:VCALENDAR