BEGIN:VCALENDAR
VERSION:2.0
PRODID:-//wp-events-plugin.com//7.2.3.1//EN
TZID:Europe/Paris
X-WR-TIMEZONE:Europe/Paris
BEGIN:VEVENT
UID:206@fnctacd78.fr
DTSTART;TZID=Europe/Paris:20260111T160000
DTEND;TZID=Europe/Paris:20260111T174500
DTSTAMP:20251208T172342Z
URL:https://fnctacd78.fr/events/tartuffe-ou-lhypocrite-2/
SUMMARY:Tartuffe ou l'hypocrite
DESCRIPTION:Petite précision : nous avons eu envie de vous faire découvr
 ir la version initiale en trois actes de Tartuffe. Cette première versio
 n\, dont on ne possède pas le texte\, avait été donnée\, sous le titre
  « Le Tartuffe ou l'Hypocrite »\, au château de Versailles\, le 12
  mai 1664\, devant Louis XIV et une partie de la cour. Sur les instanc
 es de l'archevêque de Paris\, Hardouin de Péréfixe\, le roi en interdi
 t les représentations publiques. Molière a donc entrepris de remanier sa
  pièce pour la rendre moins provocante\, et le 5 août 1667\, au Palais
 -Royal\, la troupe en donne une version en cinq actes intitulée « L'Im
 posteur »\, dont on possède un synopsis précis. Interdite à son tou
 r\, elle n'a eu qu'une représentation. Dix-huit mois plus tard\, à la fa
 veur de la Paix clémentine\, la version définitive est autorisée et co
 nnaît l’immense succès public que l’on sait.\n\n\nC’est donc la ve
 rsion initiale en 3 actes\, reconstruite par Georges Forestier et Isabelle
  Grellet\, que nous avons choisi de représenter.\n\n\nRéservation au 01
  39 69 03 03 ou par mail reservation.grenier@ville-bougival.fr\nTarifs :
  18\, 14 et 9 euros
ATTACH;FMTTYPE=image/jpeg:https://fnctacd78.fr/wp-content/uploads/2025/12/
 Affiche_Tartuffe_2025-bas-coupe.jpg
CATEGORIES:Évènements des troupes
LOCATION:théâtre le Grenier\, 7 rue du Général Leclerc\, Bougival\, 783
 80\, France
X-APPLE-STRUCTURED-LOCATION;VALUE=URI;X-ADDRESS=7 rue du Général Leclerc\
 , Bougival\, 78380\, France;X-APPLE-RADIUS=100;X-TITLE=théâtre le Grenie
 r:geo:0,0
END:VEVENT
BEGIN:VTIMEZONE
TZID:Europe/Paris
X-LIC-LOCATION:Europe/Paris
BEGIN:STANDARD
DTSTART:20251026T020000
TZOFFSETFROM:+0200
TZOFFSETTO:+0100
TZNAME:CET
END:STANDARD
END:VTIMEZONE
END:VCALENDAR