BEGIN:VCALENDAR
VERSION:2.0
PRODID:-//wp-events-plugin.com//7.2.3.1//EN
TZID:Europe/Paris
X-WR-TIMEZONE:Europe/Paris
BEGIN:VEVENT
UID:215@fnctacd78.fr
DTSTART;TZID=Europe/Paris:20260131T203000
DTEND;TZID=Europe/Paris:20260131T223000
DTSTAMP:20260126T104716Z
URL:https://fnctacd78.fr/events/sauvons-notre-village-comedie-musicale/
SUMMARY:Sauvons notre village !  - Comédie musicale
DESCRIPTION:Samedi 31 janvier à 20h30 la compagnie LéZardiZenscène est h
 eureuse d'accueillir au Théâtre des Arcades de Buc la compagnie AIRANCE 
 de Viroflay avec une comédie musicale écrite et mise en scène par Sylvi
 e Cens.\n\n\n\nVenez partager 2 heures de chansons avec les habitants de c
 e chaleureux village provençal.
ATTACH;FMTTYPE=image/jpeg:https://fnctacd78.fr/wp-content/uploads/2026/01/
 FLYER-AIRANCE-LEZARDIZENSCENE-2026.png
CATEGORIES:Évènements des troupes
LOCATION:Théâtre des Arcades de Buc\, 6 Rue des Frères Robin\, Buc\, 785
 30 \, France
X-APPLE-STRUCTURED-LOCATION;VALUE=URI;X-ADDRESS=6 Rue des Frères Robin\, B
 uc\, 78530 \, France;X-APPLE-RADIUS=100;X-TITLE=Théâtre des Arcades de B
 uc:geo:0,0
END:VEVENT
BEGIN:VTIMEZONE
TZID:Europe/Paris
X-LIC-LOCATION:Europe/Paris
BEGIN:STANDARD
DTSTART:20251026T020000
TZOFFSETFROM:+0200
TZOFFSETTO:+0100
TZNAME:CET
END:STANDARD
END:VTIMEZONE
END:VCALENDAR