BEGIN:VCALENDAR
VERSION:2.0
PRODID:-//wp-events-plugin.com//7.2.3.1//EN
TZID:Europe/Paris
X-WR-TIMEZONE:Europe/Paris
BEGIN:VEVENT
UID:251@fnctacd78.fr
DTSTART;TZID=Europe/Paris:20260308T163000
DTEND;TZID=Europe/Paris:20260308T180000
DTSTAMP:20260305T100606Z
URL:https://fnctacd78.fr/events/redoutable-margarita-6/
SUMMARY:REDOUTABLE MARGARITA
DESCRIPTION:" REDOUTABLE MARGARITA" par la Cie des Elles et des Ils\n\nUSA\
 , années 50. Le détective privé Galloway pensait avoir tout vu…\n\nRe
 doutable Margarita\, c’est la parodie d’un polar noir cinématographiq
 ue des années 50. Alors préparez-vous à plonger dans une histoire où l
 'on ne sait jamais qui manipule qui… et qui finira six pieds sous terre.
 \n\n\n\n&nbsp\;
ATTACH;FMTTYPE=image/jpeg:https://fnctacd78.fr/wp-content/uploads/2026/03/
 Affiche-Voisins-scaled.jpg
CATEGORIES:Évènements des troupes
LOCATION:Salle de la Tour\, 5 Place de la division Leclerc\, Voisins-le-Bre
 tonneux\, 78960\, France
X-APPLE-STRUCTURED-LOCATION;VALUE=URI;X-ADDRESS=5 Place de la division Lecl
 erc\, Voisins-le-Bretonneux\, 78960\, France;X-APPLE-RADIUS=100;X-TITLE=Sa
 lle de la Tour:geo:0,0
END:VEVENT
BEGIN:VTIMEZONE
TZID:Europe/Paris
X-LIC-LOCATION:Europe/Paris
BEGIN:STANDARD
DTSTART:20251026T020000
TZOFFSETFROM:+0200
TZOFFSETTO:+0100
TZNAME:CET
END:STANDARD
END:VTIMEZONE
END:VCALENDAR