BEGIN:VCALENDAR
VERSION:2.0
PRODID:-//wp-events-plugin.com//7.2.3.1//EN
TZID:Europe/Paris
X-WR-TIMEZONE:Europe/Paris
BEGIN:VEVENT
UID:204@fnctacd78.fr
DTSTART;TZID=Europe/Paris:20260201T150000
DTEND;TZID=Europe/Paris:20260201T163000
DTSTAMP:20251206T130008Z
URL:https://fnctacd78.fr/events/le-mariage-force-2/
SUMMARY:Le mariage forcé
DESCRIPTION:\nL'ATELIER a le plaisir de vous présenter sa nouvelle pièce 
 : "Le mariage forcé" de Molière.\n\n\n\n Venez assister au destin tra
 gi-comique de Sganarelle qui s'est mis en tête de se marier avec la jeune
  et jolie Dorimène. Une ribambelle de  personnages hauts en couleur vous
  feront passer\, on l'espère\, un agréable moment.\n\n\n
ATTACH;FMTTYPE=image/jpeg:https://fnctacd78.fr/wp-content/uploads/2025/12/
 affiche-LMF2.jpg
CATEGORIES:Évènements des troupes
LOCATION:Salle Lacaze\,  24 Rue du Mesnil\, Maisons-Laffitte\, 78600 \, Fra
 nce
X-APPLE-STRUCTURED-LOCATION;VALUE=URI;X-ADDRESS= 24 Rue du Mesnil\, Maisons
 -Laffitte\, 78600 \, France;X-APPLE-RADIUS=100;X-TITLE=Salle Lacaze:geo:0,
 0
END:VEVENT
BEGIN:VTIMEZONE
TZID:Europe/Paris
X-LIC-LOCATION:Europe/Paris
BEGIN:STANDARD
DTSTART:20251026T020000
TZOFFSETFROM:+0200
TZOFFSETTO:+0100
TZNAME:CET
END:STANDARD
END:VTIMEZONE
END:VCALENDAR