BEGIN:VCALENDAR
VERSION:2.0
PRODID:-//wp-events-plugin.com//7.2.3.1//EN
TZID:Europe/Paris
X-WR-TIMEZONE:Europe/Paris
BEGIN:VEVENT
UID:154@fnctacd78.fr
DTSTART;TZID=Europe/Paris:20250914T100000
DTEND;TZID=Europe/Paris:20250914T170000
DTSTAMP:20250902T092030Z
URL:https://fnctacd78.fr/events/journee-de-rentree-des-troupes-au-theatre-
 octave-mirbeau/
SUMMARY:Journée de rentrée des troupes au Théâtre Octave Mirbeau
DESCRIPTION:Déroulé prévisionnel\n\n 10h00 : Café d’accueil (Sall
 e Philippe Prévost)\n 10h30-12h00 : Jeux\, à la découverte de Triel
 -sur-Seine et de son\nhistoire\n\n 12h00 : Repas (Salle Philippe Prév
 ost)\, prévoir son repas\n\n 14h00 : Interview d’Octave Mirbeau (Th
 éâtre Octave Mirbeau)\n\n 15h00-17 h30 : « scène ouverte » pour
  les troupes dans la limite\nde 12 minutes pour chacune (programmation dan
 s l’ordre\nd’inscription – forme libre).\n\nLe Théâtre Octave Mirb
 eau est situé 3 Rue Cadot à Triel-sur-Seine. D’une capacité de 150 pl
 aces environ\, le théâtre Octave Mirbeau est un pôle important de la vi
 e culturelle trielloise. Il dispose de loges\, d’un espace bar\, et d’
 une régie son et lumières. Le parking Foch\, entièrement gratuit\, est 
 situé à proximité immédiate.\n\nLa salle Philippe Prévost jouxte le t
 héâtre sur la place Philippe Prévost.
ATTACH;FMTTYPE=image/jpeg:https://fnctacd78.fr/wp-content/uploads/2025/09/
 Octave_Mirbeau_1895-e1565515859947-768x1080-1-e1756802029684.jpg
CATEGORIES:FNCTA-78
LOCATION:Théâtre Octave Mirbeau\, Triel\, 3 Rue Cadot\, Triel-sur-Seine\,
  78510 \, France
X-APPLE-STRUCTURED-LOCATION;VALUE=URI;X-ADDRESS=3 Rue Cadot\, Triel-sur-Sei
 ne\, 78510 \, France;X-APPLE-RADIUS=100;X-TITLE=Théâtre Octave Mirbeau\,
  Triel:geo:0,0
END:VEVENT
BEGIN:VTIMEZONE
TZID:Europe/Paris
X-LIC-LOCATION:Europe/Paris
BEGIN:DAYLIGHT
DTSTART:20250330T030000
TZOFFSETFROM:+0100
TZOFFSETTO:+0200
TZNAME:CEST
END:DAYLIGHT
END:VTIMEZONE
END:VCALENDAR