BEGIN:VCALENDAR
VERSION:2.0
PRODID:-//wp-events-plugin.com//7.2.3.1//EN
TZID:Europe/Paris
X-WR-TIMEZONE:Europe/Paris
BEGIN:VEVENT
UID:143@fnctacd78.fr
DTSTART;TZID=Europe/Paris:20250606T200000
DTEND;TZID=Europe/Paris:20250606T213000
DTSTAMP:20250604T041301Z
URL:https://fnctacd78.fr/events/je-prefere-quon-reste-amis-11/
SUMMARY:Je préfère qu'on reste amis\, de Laurent Ruquier
DESCRIPTION:La comédie de Laurent Ruquier sera jouée en ouverture de la f
 ête de la ville de Bouffémont dans le Val d'Oise\n\npar Les Comédiens d
 e La Tour.\n\nRéservations : contact@omca-bouffemont.fr
ATTACH;FMTTYPE=image/jpeg:https://fnctacd78.fr/wp-content/uploads/2025/06/
 AfficheJPRA_Bouffemont_20250606.jpg
CATEGORIES:Évènements des troupes
LOCATION:Centre de Loisirs\, rue Champollion \, Bouffémont \, 95570 \, Fra
 nce
X-APPLE-STRUCTURED-LOCATION;VALUE=URI;X-ADDRESS=rue Champollion \, Bouffém
 ont \, 95570 \, France;X-APPLE-RADIUS=100;X-TITLE=Centre de Loisirs:geo:0,
 0
END:VEVENT
BEGIN:VTIMEZONE
TZID:Europe/Paris
X-LIC-LOCATION:Europe/Paris
BEGIN:DAYLIGHT
DTSTART:20250330T030000
TZOFFSETFROM:+0100
TZOFFSETTO:+0200
TZNAME:CEST
END:DAYLIGHT
END:VTIMEZONE
END:VCALENDAR