BEGIN:VCALENDAR
VERSION:2.0
PRODID:-//wp-events-plugin.com//7.2.3.1//EN
TZID:Europe/Paris
X-WR-TIMEZONE:Europe/Paris
BEGIN:VEVENT
UID:10@fnctacd78.fr
DTSTART;TZID=Europe/Paris:20241116T210000
DTEND;TZID=Europe/Paris:20241116T231500
DTSTAMP:20241108T093325Z
URL:https://fnctacd78.fr/events/des-souris-et-des-hommes/
SUMMARY:Des souris et des hommes
DESCRIPTION:Dans la Californie des années 30\, George et Lennie\, insépar
 ables\, vont de ferme en ferme chercher du travail. Ils ne restent jamais 
 bien longtemps au même endroit car Lennie\, un colosse dur au travail\, u
 n peu simple d’esprit a l’art de s’attirer des ennuis. Parcourant le
 s routes\, ils rêvent d’un avenir meilleur et de posséder leur propre 
 ferme. Mais bien des obstacles se dressent devant eux.\n\n&nbsp\;
ATTACH;FMTTYPE=image/jpeg:https://fnctacd78.fr/wp-content/uploads/2024/11/
 AfficheA3_DesSourisEtDesHommes.jpg
CATEGORIES:Évènements des troupes
LOCATION:Théâtre Octave Mirbeau\, Triel\, 3 Rue Cadot\, Triel-sur-Seine\,
  78510 \, France
X-APPLE-STRUCTURED-LOCATION;VALUE=URI;X-ADDRESS=3 Rue Cadot\, Triel-sur-Sei
 ne\, 78510 \, France;X-APPLE-RADIUS=100;X-TITLE=Théâtre Octave Mirbeau\,
  Triel:geo:0,0
END:VEVENT
BEGIN:VTIMEZONE
TZID:Europe/Paris
X-LIC-LOCATION:Europe/Paris
BEGIN:STANDARD
DTSTART:20241027T020000
TZOFFSETFROM:+0200
TZOFFSETTO:+0100
TZNAME:CET
END:STANDARD
END:VTIMEZONE
END:VCALENDAR