BEGIN:VCALENDAR
VERSION:2.0
PRODID:-//wp-events-plugin.com//7.2.3.1//EN
TZID:Europe/Paris
X-WR-TIMEZONE:Europe/Paris
BEGIN:VEVENT
UID:216@fnctacd78.fr
DTSTART;TZID=Europe/Paris:20260205T203000
DTEND;TZID=Europe/Paris:20260205T214500
DTSTAMP:20260204T175211Z
URL:https://fnctacd78.fr/events/combien-doiseaux-dans-le-ciel-au-festival-
 coups-de-theatre-de-massy/
SUMMARY:Combien d'oiseaux dans le ciel ? au festival Coups de théâtre de 
 Massy
DESCRIPTION:Sélection du festival Coups de Théâtre de Massy
CATEGORIES:Évènements des troupes
END:VEVENT
BEGIN:VTIMEZONE
TZID:Europe/Paris
X-LIC-LOCATION:Europe/Paris
BEGIN:STANDARD
DTSTART:20251026T020000
TZOFFSETFROM:+0200
TZOFFSETTO:+0100
TZNAME:CET
END:STANDARD
END:VTIMEZONE
END:VCALENDAR