BEGIN:VCALENDAR
VERSION:2.0
PRODID:-//wp-events-plugin.com//7.2.3.1//EN
TZID:Europe/Paris
X-WR-TIMEZONE:Europe/Paris
BEGIN:VEVENT
UID:248@fnctacd78.fr
DTSTART;TZID=Europe/Paris:20260404T193000
DTEND;TZID=Europe/Paris:20260404T210000
DTSTAMP:20260308T160243Z
URL:https://fnctacd78.fr/events/banc-prive-banc-public/
SUMMARY:Banc privé Banc public
DESCRIPTION:Lieu de rencontres\, de pauses\, le banc\, qu'il soit privé ou
  public\, accueille une sélection de textes de Ribes\, de Tardieu\, de Le
 vin et de Van Wetter qui nous interpellent avec humour\, tendresse et parf
 ois sarcasmes sur les absurdités de notre société.\nUn banc\, c'est une
  occasion de faire une pause\, un pas de côté et de regarder ce que nous
  sommes.\nDes rencontres\, des malentendus\, des révélations... Des pers
 onnages sortis de l'imaginaire de Ribes\, de Tardieu\, de Levin et Van Wet
 ter se croisent sur ou autour de ce banc.\nEntre les mots inutiles ( finis
 sez vos phrases )\, les mots qui ne signifient plus rien ( ce que parler v
 eut dire ou le patois des familles )\, nos désirs d'avoir qui nous envahi
 ssent ( le chapeau...) ou ces discours politiques qui tournent à la farce
 \, chaque saynète nous invite à nous regarder\, à rire de nos absurdit
 és\, de nos silences.\nSur ce banc\, on se croise ( ou pas)\, on se regar
 de ( ou pas)\, on s'écoute ( ou pas) mais toujours avec HUMOUR \n( même 
 si l'humour est quelques fois grinçant...)\n
ATTACH;FMTTYPE=image/jpeg:https://fnctacd78.fr/wp-content/uploads/2026/03/
 0d30ddff-ccc0-4236-af70-7ca23f6705d8.jpg
CATEGORIES:Évènements des troupes
LOCATION:Triplex\, 40 rue Faidherbe\, Houilles\, 78800\, France
X-APPLE-STRUCTURED-LOCATION;VALUE=URI;X-ADDRESS=40 rue Faidherbe\, Houilles
 \, 78800\, France;X-APPLE-RADIUS=100;X-TITLE=Triplex:geo:0,0
END:VEVENT
BEGIN:VTIMEZONE
TZID:Europe/Paris
X-LIC-LOCATION:Europe/Paris
BEGIN:DAYLIGHT
DTSTART:20260329T030000
TZOFFSETFROM:+0100
TZOFFSETTO:+0200
TZNAME:CEST
END:DAYLIGHT
END:VTIMEZONE
END:VCALENDAR