BEGIN:VCALENDAR
VERSION:2.0
PRODID:-//wp-events-plugin.com//7.2.3.1//EN
TZID:Europe/Paris
X-WR-TIMEZONE:Europe/Paris
BEGIN:VEVENT
UID:145@fnctacd78.fr
DTSTART;TZID=Europe/Paris:20250620T210000
DTEND;TZID=Europe/Paris:20250620T223000
DTSTAMP:20250608T151807Z
URL:https://fnctacd78.fr/events/adieu-je-reste-de-isabelle-mergault-mois-m
 oliere-a-versailles/
SUMMARY:Adieu je reste ! de Isabelle MERGAULT mois Molière à Versailles
DESCRIPTION:La Compagnie des Lucioles a le plaisir de vous présenter « 
 Adieu\, je reste ! »\, une comédie savoureuse et pleine de rebondisseme
 nts signée Isabelle Mergault.\n\nDeux femmes\, un mari (mort)… et une v
 engeance qui prend des allures de duo comique explosif !\nHumour\, surpris
 es et jeux de dupes garantis pour une soirée à ne pas manquer au cœur d
 u Mois Molière.\n\nEntrée libre\n\n
ATTACH;FMTTYPE=image/jpeg:https://fnctacd78.fr/wp-content/uploads/2025/01/
 Affiche-Adieu-je-reste-002.png
CATEGORIES:Évènements des troupes
LOCATION:Salle Marcel Tassencourt\, 7 bis rue Pierre Lescot\, Versailles\, 
 Yvelines\, France
X-APPLE-STRUCTURED-LOCATION;VALUE=URI;X-ADDRESS=7 bis rue Pierre Lescot\, V
 ersailles\, Yvelines\, France;X-APPLE-RADIUS=100;X-TITLE=Salle Marcel Tass
 encourt:geo:0,0
END:VEVENT
BEGIN:VTIMEZONE
TZID:Europe/Paris
X-LIC-LOCATION:Europe/Paris
BEGIN:DAYLIGHT
DTSTART:20250330T030000
TZOFFSETFROM:+0100
TZOFFSETTO:+0200
TZNAME:CEST
END:DAYLIGHT
END:VTIMEZONE
END:VCALENDAR