BEGIN:VCALENDAR
VERSION:2.0
PRODID:-//wp-events-plugin.com//7.2.3.1//EN
TZID:Europe/Paris
X-WR-TIMEZONE:Europe/Paris
BEGIN:VEVENT
UID:275@fnctacd78.fr
DTSTART;TZID=Europe/Paris:20260426T160000
DTEND;TZID=Europe/Paris:20260426T173000
DTSTAMP:20260421T154736Z
URL:https://fnctacd78.fr/events/a-quelle-heure-on-ment-de-vivien-lheraux-l
 e-perray-en-yvelines/
SUMMARY:"A quelle heure on ment" de Vivien LHERAUX (Le Perray-en-Yvelines)
DESCRIPTION:\n\nLe pitch\nAu cœur d’une petite salle de village\, une tr
 oupe de comédiens amateurs se lance avec enthousiasme dans la préparatio
 n d’une pièce haute en couleur\, écrite dans les années 1920. Mais bi
 en vite\, les coulisses deviennent le théâtre d’événements aussi roc
 ambolesques que ceux qui se jouent sur scène : petits secrets inavoués\,
  quiproquos savoureux\, comédien sous le coup d'une terrible nouvelle per
 sonnelle et événement inattendu s’enchaînent à un rythme effréné. 
 Entre les oublis de texte\, les décors encore à parfaire et un imprévu 
 qui s’invite sur scène\, l'ultime répétition prend des allures de vé
 ritable parcours du combattant… Et le soir de la première promet d’ê
 tre mémorable\, emportant acteurs et spectateurs dans un tourbillon de ri
 res et de rebondissements inattendus !\n\n&nbsp\;\n\nLa troupe\nLa troupe 
 des Tamalous\, ancrée dans le village de Raizeux\, est un pilier incontou
 rnable de la vie culturelle locale. Depuis 2007\, elle évolue sous l’é
 gide de l’association APTECURA\, qui se consacre à promouvoir le théâ
 tre et la culture dans la commune et ses alentours. Animés d’une énerg
 ie communicative et d’un esprit de camaraderie sans faille\, les membres
  des Tamalous s’investissent chaque année dans des créations originale
 s ou des reprises audacieuses\, partageant avec le public leur amour de la
  scène et leur humour. Par leur créativité et leur engagement\, ils ins
 ufflent une véritable dynamique artistique à Raizeux\, rassemblant habit
 ants et visiteurs autour d’un moment convivial\, riche en émotions et e
 n éclats de rire.
ATTACH;FMTTYPE=image/jpeg:https://fnctacd78.fr/wp-content/uploads/2026/04/
 le-perray_Granges.jpg
CATEGORIES:Évènements des troupes
LOCATION:Salle Les Granges du Parc\, Allée des Tilleuls Argentés\, Le Per
 ray en Yvelines\, Yvelines\, 78610\, France
X-APPLE-STRUCTURED-LOCATION;VALUE=URI;X-ADDRESS=Allée des Tilleuls Argent
 és\, Le Perray en Yvelines\, Yvelines\, 78610\, France;X-APPLE-RADIUS=100
 ;X-TITLE=Salle Les Granges du Parc:geo:0,0
END:VEVENT
BEGIN:VTIMEZONE
TZID:Europe/Paris
X-LIC-LOCATION:Europe/Paris
BEGIN:DAYLIGHT
DTSTART:20260329T030000
TZOFFSETFROM:+0100
TZOFFSETTO:+0200
TZNAME:CEST
END:DAYLIGHT
END:VTIMEZONE
END:VCALENDAR