BEGIN:VCALENDAR
VERSION:2.0
PRODID:-//wp-events-plugin.com//7.2.3.1//EN
TZID:Europe/Paris
X-WR-TIMEZONE:Europe/Paris
BEGIN:VEVENT
UID:247@fnctacd78.fr
DTSTART;TZID=Europe/Paris:20260314T203000
DTEND;TZID=Europe/Paris:20260314T220000
DTSTAMP:20260312T115732Z
URL:https://fnctacd78.fr/events/a-quelle-heure-on-ment-de-vivien-lheraux-a
 -poigny-la-foret-le-14-3-26/
SUMMARY:A quelle heure on ment\, de Vivien LHERAUX
DESCRIPTION:Les Tamalous de Raizeux présentent : A quelle heure on ment de
  Vivien Lheraux\nAu cœur d’une petite salle de village\, une troupe de 
 comédiens amateurs se lance avec enthousiasme dans la préparation d’un
 e pièce haute en couleur\, écrite dans les années 1920. Mais bien vite\
 , les coulisses deviennent le théâtre d’événements aussi rocambolesq
 ues que ceux qui se jouent sur scène : petits secrets inavoués\, quiproq
 uos savoureux\, comédien sous le coup d'une terrible nouvelle personnelle
  et événement inattendu s’enchaînent à un rythme effréné.\nEntre l
 es oublis de texte\, les décors encore à parfaire et un imprévu qui s
 ’invite sur scène\, l'ultime répétition prend des allures de véritab
 le parcours du combattant… Et le soir de la première promet d’être m
 émorable\, emportant acteurs et spectateurs dans un tourbillon de rires e
 t de rebondissements inattendus !\n                          
                          \n\n&nbsp\;\nRéservations : \n
ATTACH;FMTTYPE=image/jpeg:https://fnctacd78.fr/wp-content/uploads/2026/02/
 poigny.jpg
CATEGORIES:Évènements des troupes
LOCATION:Salle des fêtes Claude Vatran\, 11 rue de Rambouillet\, Poigny-La
 -Forêt\, Yvelines\, 78125\, France
X-APPLE-STRUCTURED-LOCATION;VALUE=URI;X-ADDRESS=11 rue de Rambouillet\, Poi
 gny-La-Forêt\, Yvelines\, 78125\, France;X-APPLE-RADIUS=100;X-TITLE=Salle
  des fêtes Claude Vatran:geo:0,0
END:VEVENT
BEGIN:VTIMEZONE
TZID:Europe/Paris
X-LIC-LOCATION:Europe/Paris
BEGIN:STANDARD
DTSTART:20251026T020000
TZOFFSETFROM:+0200
TZOFFSETTO:+0100
TZNAME:CET
END:STANDARD
END:VTIMEZONE
END:VCALENDAR